BEGIN:VCALENDAR
VERSION:2.0
PRODID:-//Pekan Bukit Jenun - ECPv6.15.13.1//NONSGML v1.0//EN
CALSCALE:GREGORIAN
METHOD:PUBLISH
X-WR-CALNAME:Pekan Bukit Jenun
X-ORIGINAL-URL:https://bukitjenun.nadi.my
X-WR-CALDESC:Events for Pekan Bukit Jenun
REFRESH-INTERVAL;VALUE=DURATION:PT1H
X-Robots-Tag:noindex
X-PUBLISHED-TTL:PT1H
BEGIN:VTIMEZONE
TZID:Asia/Kuala_Lumpur
BEGIN:STANDARD
TZOFFSETFROM:+0800
TZOFFSETTO:+0800
TZNAME:+08
DTSTART:20240101T000000
END:STANDARD
END:VTIMEZONE
BEGIN:VEVENT
DTSTART;TZID=Asia/Kuala_Lumpur:20250802T093000
DTEND;TZID=Asia/Kuala_Lumpur:20250802T170000
DTSTAMP:20260422T055408
CREATED:20250731T062704Z
LAST-MODIFIED:20250731T062704Z
UID:6874-1754127000-1754154000@bukitjenun.nadi.my
SUMMARY:TORNAMENT SARINGAN MLBB 2025 SESSION 3
DESCRIPTION:
URL:https://bukitjenun.nadi.my/event/tornament-saringan-mlbb-2025-session-3/
LOCATION:Kedah
CATEGORIES:DEFAULT
END:VEVENT
END:VCALENDAR