BEGIN:VCALENDAR
VERSION:2.0
PRODID:-//Pekan Bukit Jenun - ECPv6.15.13.1//NONSGML v1.0//EN
CALSCALE:GREGORIAN
METHOD:PUBLISH
X-WR-CALNAME:Pekan Bukit Jenun
X-ORIGINAL-URL:https://bukitjenun.nadi.my
X-WR-CALDESC:Events for Pekan Bukit Jenun
REFRESH-INTERVAL;VALUE=DURATION:PT1H
X-Robots-Tag:noindex
X-PUBLISHED-TTL:PT1H
BEGIN:VTIMEZONE
TZID:Asia/Kuala_Lumpur
BEGIN:STANDARD
TZOFFSETFROM:+0800
TZOFFSETTO:+0800
TZNAME:+08
DTSTART:20240101T000000
END:STANDARD
END:VTIMEZONE
BEGIN:VEVENT
DTSTART;TZID=Asia/Kuala_Lumpur:20250603T140000
DTEND;TZID=Asia/Kuala_Lumpur:20250603T170000
DTSTAMP:20260422T171734
CREATED:20250603T061729Z
LAST-MODIFIED:20250603T061729Z
UID:6682-1748959200-1748970000@bukitjenun.nadi.my
SUMMARY:Webinar Pemasaran  Digital  eKelas Usahawan
DESCRIPTION:
URL:https://bukitjenun.nadi.my/event/webinar-pemasaran-digital-ekelas-usahawan/
LOCATION:Kedah
END:VEVENT
BEGIN:VEVENT
DTSTART;TZID=Asia/Kuala_Lumpur:20250605T100000
DTEND;TZID=Asia/Kuala_Lumpur:20250605T150000
DTSTAMP:20260422T171734
CREATED:20250603T061825Z
LAST-MODIFIED:20250603T074754Z
UID:6684-1749117600-1749135600@bukitjenun.nadi.my
SUMMARY:Webinar Pemasaran  Digital  eKelas Usahawan
DESCRIPTION:
URL:https://bukitjenun.nadi.my/event/nadicare-webinar-nadi-kesejahteraan-kendiri-studio-sihat/
LOCATION:Kedah
END:VEVENT
BEGIN:VEVENT
DTSTART;TZID=Asia/Kuala_Lumpur:20250618T140000
DTEND;TZID=Asia/Kuala_Lumpur:20250618T150000
DTSTAMP:20260422T171734
CREATED:20250618T064540Z
LAST-MODIFIED:20250618T064540Z
UID:6724-1750255200-1750258800@bukitjenun.nadi.my
SUMMARY:Ekelas Usahawan -Strategi Mengurus dan Mengukur Keberhasilan
DESCRIPTION:
URL:https://bukitjenun.nadi.my/event/ekelas-usahawan-strategi-mengurus-dan-mengukur-keberhasilan/
LOCATION:Kedah
END:VEVENT
BEGIN:VEVENT
DTSTART;TZID=Asia/Kuala_Lumpur:20250620T153000
DTEND;TZID=Asia/Kuala_Lumpur:20250620T170000
DTSTAMP:20260422T171734
CREATED:20250618T064850Z
LAST-MODIFIED:20250618T064850Z
UID:6727-1750433400-1750438800@bukitjenun.nadi.my
SUMMARY:WEBINAR NADI x CYBERSECURITY-MEMAHAMI RISIKO SIBER DALAM PERMAINAN ONLINE ANAK
DESCRIPTION:
URL:https://bukitjenun.nadi.my/event/webinar-nadi-x-cybersecurity-memahami-risiko-siber-dalam-permainan-online-anak/
LOCATION:Kedah
END:VEVENT
BEGIN:VEVENT
DTSTART;TZID=Asia/Kuala_Lumpur:20250621T100000
DTEND;TZID=Asia/Kuala_Lumpur:20250621T150000
DTSTAMP:20260422T171734
CREATED:20250618T065031Z
LAST-MODIFIED:20250618T065031Z
UID:6729-1750500000-1750518000@bukitjenun.nadi.my
SUMMARY:Tiny Techies
DESCRIPTION:
URL:https://bukitjenun.nadi.my/event/tiny-techies/
LOCATION:Kedah
END:VEVENT
BEGIN:VEVENT
DTSTART;TZID=Asia/Kuala_Lumpur:20250628T143000
DTEND;TZID=Asia/Kuala_Lumpur:20250628T163000
DTSTAMP:20260422T171734
CREATED:20250618T065123Z
LAST-MODIFIED:20250618T065338Z
UID:6731-1751121000-1751128200@bukitjenun.nadi.my
SUMMARY:Dilea - PROGRAM KHAS SEJARAH
DESCRIPTION:
URL:https://bukitjenun.nadi.my/event/tiny-techies-mentor-sesi-5/
LOCATION:Kedah
END:VEVENT
END:VCALENDAR