BEGIN:VCALENDAR
VERSION:2.0
PRODID:-//Pekan Bukit Jenun - ECPv6.15.13.1//NONSGML v1.0//EN
CALSCALE:GREGORIAN
METHOD:PUBLISH
X-WR-CALNAME:Pekan Bukit Jenun
X-ORIGINAL-URL:https://bukitjenun.nadi.my
X-WR-CALDESC:Events for Pekan Bukit Jenun
REFRESH-INTERVAL;VALUE=DURATION:PT1H
X-Robots-Tag:noindex
X-PUBLISHED-TTL:PT1H
BEGIN:VTIMEZONE
TZID:UTC
BEGIN:STANDARD
TZOFFSETFROM:+0000
TZOFFSETTO:+0000
TZNAME:UTC
DTSTART:20240101T000000
END:STANDARD
END:VTIMEZONE
BEGIN:VTIMEZONE
TZID:UTC
BEGIN:STANDARD
TZOFFSETFROM:+0000
TZOFFSETTO:+0000
TZNAME:UTC
DTSTART:20230101T000000
END:STANDARD
END:VTIMEZONE
BEGIN:VEVENT
DTSTART;TZID=UTC:20250220T100000
DTEND;TZID=UTC:20250220T110000
DTSTAMP:20260426T122234
CREATED:20250201T230852Z
LAST-MODIFIED:20250201T231520Z
UID:6274-1740045600-1740049200@bukitjenun.nadi.my
SUMMARY:Kelas SHOPEE DAN CANVA
DESCRIPTION:
URL:https://bukitjenun.nadi.my/event/kelas-shopee-dan-canva-4/
CATEGORIES:DEFAULT
END:VEVENT
BEGIN:VEVENT
DTSTART;TZID=UTC:20250214T150000
DTEND;TZID=UTC:20250214T150000
DTSTAMP:20260426T122234
CREATED:20250201T230819Z
LAST-MODIFIED:20250201T231511Z
UID:6272-1739545200-1739545200@bukitjenun.nadi.my
SUMMARY:Kelas NADI  Mahir (Masak) Online
DESCRIPTION:
URL:https://bukitjenun.nadi.my/event/kelas-nadi-mahir-masak-online/
CATEGORIES:DEFAULT
END:VEVENT
BEGIN:VEVENT
DTSTART;TZID=UTC:20250213T150000
DTEND;TZID=UTC:20250213T160000
DTSTAMP:20260426T122234
CREATED:20250201T230453Z
LAST-MODIFIED:20250201T231504Z
UID:6265-1739458800-1739462400@bukitjenun.nadi.my
SUMMARY:E-Learning Abcya\,COLORING\, STAM IOT
DESCRIPTION:
URL:https://bukitjenun.nadi.my/event/kelas-multimedia-canva-5/
CATEGORIES:DEFAULT
END:VEVENT
BEGIN:VEVENT
DTSTART;TZID=UTC:20250208T143000
DTEND;TZID=UTC:20250208T163000
DTSTAMP:20260426T122234
CREATED:20250203T211402Z
LAST-MODIFIED:20250203T211402Z
UID:6287-1739025000-1739032200@bukitjenun.nadi.my
SUMMARY:Dilea Math
DESCRIPTION:
URL:https://bukitjenun.nadi.my/event/dilea-math/
END:VEVENT
BEGIN:VEVENT
DTSTART;TZID=UTC:20250207T153000
DTEND;TZID=UTC:20250207T170000
DTSTAMP:20260426T122234
CREATED:20250206T193019Z
LAST-MODIFIED:20250203T211307Z
UID:6270-1738942200-1738947600@bukitjenun.nadi.my
SUMMARY:Cybersecurity
DESCRIPTION:
URL:https://bukitjenun.nadi.my/event/cybersecurity/
CATEGORIES:DEFAULT
END:VEVENT
BEGIN:VEVENT
DTSTART;TZID=UTC:20250204T090000
DTEND;TZID=UTC:20250204T100000
DTSTAMP:20260426T122234
CREATED:20250201T230406Z
LAST-MODIFIED:20250201T231455Z
UID:6263-1738659600-1738663200@bukitjenun.nadi.my
SUMMARY:Kelas Softskill
DESCRIPTION:
URL:https://bukitjenun.nadi.my/event/kelas-softskill-2/
CATEGORIES:DEFAULT
END:VEVENT
BEGIN:VEVENT
DTSTART;TZID=UTC:20250131T100000
DTEND;TZID=UTC:20250131T110000
DTSTAMP:20260426T122234
CREATED:20250101T200634Z
LAST-MODIFIED:20250201T231433Z
UID:6062-1738317600-1738321200@bukitjenun.nadi.my
SUMMARY:Kelas Softskill
DESCRIPTION:
URL:https://bukitjenun.nadi.my/event/kelas-softskill/
CATEGORIES:DEFAULT
END:VEVENT
BEGIN:VEVENT
DTSTART;TZID=UTC:20250130T100000
DTEND;TZID=UTC:20250130T110000
DTSTAMP:20260426T122234
CREATED:20250101T200535Z
LAST-MODIFIED:20250101T200535Z
UID:6060-1738231200-1738234800@bukitjenun.nadi.my
SUMMARY:E-learning Abcya\,COLORING\, STAM IOT
DESCRIPTION:
URL:https://bukitjenun.nadi.my/event/e-learning-abcyacoloring-stam-iot/
CATEGORIES:DEFAULT
END:VEVENT
BEGIN:VEVENT
DTSTART;TZID=UTC:20250125T093000
DTEND;TZID=UTC:20250125T113000
DTSTAMP:20260426T122235
CREATED:20250101T200426Z
LAST-MODIFIED:20250101T200426Z
UID:6058-1737797400-1737804600@bukitjenun.nadi.my
SUMMARY:Kelas Multimedia  Canva
DESCRIPTION:
URL:https://bukitjenun.nadi.my/event/kelas-multimedia-canva-4/
CATEGORIES:DEFAULT
END:VEVENT
BEGIN:VEVENT
DTSTART;TZID=UTC:20250123T153000
DTEND;TZID=UTC:20250123T163000
DTSTAMP:20260426T122235
CREATED:20250101T200332Z
LAST-MODIFIED:20250101T200332Z
UID:6056-1737646200-1737649800@bukitjenun.nadi.my
SUMMARY:Kelas Shopee Dan Canva
DESCRIPTION:
URL:https://bukitjenun.nadi.my/event/kelas-shopee-dan-canva-3/
CATEGORIES:DEFAULT
END:VEVENT
BEGIN:VEVENT
DTSTART;TZID=UTC:20250118T080000
DTEND;TZID=UTC:20250118T120000
DTSTAMP:20260426T122235
CREATED:20250101T222437Z
LAST-MODIFIED:20250101T222445Z
UID:6064-1737187200-1737201600@bukitjenun.nadi.my
SUMMARY:Program Berkhatan KEDA
DESCRIPTION:
URL:https://bukitjenun.nadi.my/event/program-berkhatan-keda/
CATEGORIES:DEFAULT
END:VEVENT
BEGIN:VEVENT
DTSTART;TZID=UTC:20250116T090000
DTEND;TZID=UTC:20250116T110000
DTSTAMP:20260426T122235
CREATED:20250101T200247Z
LAST-MODIFIED:20250101T200247Z
UID:6054-1737018000-1737025200@bukitjenun.nadi.my
SUMMARY:Kelas Multimedia Canva
DESCRIPTION:
URL:https://bukitjenun.nadi.my/event/kelas-multimedia-canva-3/
CATEGORIES:DEFAULT
END:VEVENT
BEGIN:VEVENT
DTSTART;TZID=UTC:20250109T080000
DTEND;TZID=UTC:20250109T140000
DTSTAMP:20260426T122235
CREATED:20250101T200125Z
LAST-MODIFIED:20250101T200132Z
UID:6052-1736409600-1736431200@bukitjenun.nadi.my
SUMMARY:Program Hari Koku Di Sekolah Model Khas
DESCRIPTION:
URL:https://bukitjenun.nadi.my/event/program-hari-koku-di-sekolah-model-khas/
CATEGORIES:DEFAULT
END:VEVENT
BEGIN:VEVENT
DTSTART;TZID=UTC:20250107T080000
DTEND;TZID=UTC:20250107T123000
DTSTAMP:20260426T122235
CREATED:20250101T195956Z
LAST-MODIFIED:20250101T195956Z
UID:6050-1736236800-1736253000@bukitjenun.nadi.my
SUMMARY:KDB di Kolej Sultan Abdul Hamid
DESCRIPTION:
URL:https://bukitjenun.nadi.my/event/kdb-di-kolej-sultan-abdul-hamid/
CATEGORIES:DEFAULT
END:VEVENT
BEGIN:VEVENT
DTSTART;TZID=UTC:20250105T090000
DTEND;TZID=UTC:20250105T120000
DTSTAMP:20260426T122235
CREATED:20250101T195829Z
LAST-MODIFIED:20250101T203815Z
UID:6048-1736067600-1736078400@bukitjenun.nadi.my
SUMMARY:Explorace Di Ayer Puteh
DESCRIPTION:
URL:https://bukitjenun.nadi.my/event/explorace-di-ayer-puteh/
CATEGORIES:DEFAULT
END:VEVENT
BEGIN:VEVENT
DTSTART;TZID=UTC:20241026T100000
DTEND;TZID=UTC:20241026T110000
DTSTAMP:20260426T122235
CREATED:20241003T213820Z
LAST-MODIFIED:20241003T213820Z
UID:5966-1729936800-1729940400@bukitjenun.nadi.my
SUMMARY:Seminar Keusahawanan
DESCRIPTION:
URL:https://bukitjenun.nadi.my/event/seminar-keusahawanan/
CATEGORIES:DEFAULT
END:VEVENT
BEGIN:VEVENT
DTSTART;TZID=UTC:20241025T100000
DTEND;TZID=UTC:20241025T120000
DTSTAMP:20260426T122235
CREATED:20241003T213753Z
LAST-MODIFIED:20241003T213753Z
UID:5965-1729850400-1729857600@bukitjenun.nadi.my
SUMMARY:Kelas ICT
DESCRIPTION:
URL:https://bukitjenun.nadi.my/event/kelas-ict-13/
CATEGORIES:DEFAULT
END:VEVENT
BEGIN:VEVENT
DTSTART;TZID=UTC:20241024T090000
DTEND;TZID=UTC:20241024T110000
DTSTAMP:20260426T122235
CREATED:20241003T213732Z
LAST-MODIFIED:20241003T213732Z
UID:5964-1729760400-1729767600@bukitjenun.nadi.my
SUMMARY:Taklimat Dan Kuiz Klik Dengan Bijak
DESCRIPTION:
URL:https://bukitjenun.nadi.my/event/taklimat-dan-kuiz-klik-dengan-bijak-2/
CATEGORIES:DEFAULT
END:VEVENT
BEGIN:VEVENT
DTSTART;TZID=UTC:20241019T100000
DTEND;TZID=UTC:20241019T120000
DTSTAMP:20260426T122235
CREATED:20241012T173705Z
LAST-MODIFIED:20241012T173705Z
UID:5968-1729332000-1729339200@bukitjenun.nadi.my
SUMMARY:Pertandingan Mobile Legend
DESCRIPTION:
URL:https://bukitjenun.nadi.my/event/pertandingan-mobile-legend/
CATEGORIES:DEFAULT
END:VEVENT
BEGIN:VEVENT
DTSTART;TZID=UTC:20241018T150000
DTEND;TZID=UTC:20241018T160000
DTSTAMP:20260426T122235
CREATED:20241012T173638Z
LAST-MODIFIED:20241012T173638Z
UID:5967-1729263600-1729267200@bukitjenun.nadi.my
SUMMARY:Taklimat pengenalan 5jenis NADI Mahir
DESCRIPTION:
URL:https://bukitjenun.nadi.my/event/taklimat-pengenalan-5jenis-nadi-mahir/
CATEGORIES:DEFAULT
END:VEVENT
BEGIN:VEVENT
DTSTART;TZID=UTC:20241017T100000
DTEND;TZID=UTC:20241017T110000
DTSTAMP:20260426T122235
CREATED:20241003T213650Z
LAST-MODIFIED:20241003T213650Z
UID:5963-1729159200-1729162800@bukitjenun.nadi.my
SUMMARY:Kelas Shopee & Canva
DESCRIPTION:
URL:https://bukitjenun.nadi.my/event/kelas-shopee-canva/
CATEGORIES:DEFAULT
END:VEVENT
BEGIN:VEVENT
DTSTART;TZID=UTC:20241010T100000
DTEND;TZID=UTC:20241010T110000
DTSTAMP:20260426T122235
CREATED:20241003T213615Z
LAST-MODIFIED:20241003T213615Z
UID:5962-1728554400-1728558000@bukitjenun.nadi.my
SUMMARY:Advokasi KDB Buli Siber
DESCRIPTION:
URL:https://bukitjenun.nadi.my/event/advokasi-kdb-buli-siber-2/
CATEGORIES:DEFAULT
END:VEVENT
BEGIN:VEVENT
DTSTART;TZID=UTC:20241008T100000
DTEND;TZID=UTC:20241008T110000
DTSTAMP:20260426T122235
CREATED:20241003T213246Z
LAST-MODIFIED:20241003T213246Z
UID:5961-1728381600-1728385200@bukitjenun.nadi.my
SUMMARY:Kelas Bimbingan Usahawan Dan AI
DESCRIPTION:
URL:https://bukitjenun.nadi.my/event/kelas-bimbingan-usahawan-dan-ai/
CATEGORIES:DEFAULT
END:VEVENT
BEGIN:VEVENT
DTSTART;TZID=UTC:20241007T150000
DTEND;TZID=UTC:20241007T160000
DTSTAMP:20260426T122235
CREATED:20241003T213212Z
LAST-MODIFIED:20241003T213212Z
UID:5960-1728313200-1728316800@bukitjenun.nadi.my
SUMMARY:E-Learning Coloring & Moto Halus
DESCRIPTION:
URL:https://bukitjenun.nadi.my/event/e-learning-coloring-moto-halus/
CATEGORIES:DEFAULT
END:VEVENT
BEGIN:VEVENT
DTSTART;TZID=UTC:20241003T080000
DTEND;TZID=UTC:20241004T170000
DTSTAMP:20260426T122235
CREATED:20241003T213124Z
LAST-MODIFIED:20241003T213124Z
UID:5959-1727942400-1728061200@bukitjenun.nadi.my
SUMMARY:Program Masuk Sekolah
DESCRIPTION:
URL:https://bukitjenun.nadi.my/event/program-masuk-sekolah/
CATEGORIES:DEFAULT
END:VEVENT
BEGIN:VEVENT
DTSTART;TZID=UTC:20240927T090000
DTEND;TZID=UTC:20240927T120000
DTSTAMP:20260426T122235
CREATED:20240901T233926Z
LAST-MODIFIED:20240901T233926Z
UID:5958-1727427600-1727438400@bukitjenun.nadi.my
SUMMARY:Kelas ICT
DESCRIPTION:
URL:https://bukitjenun.nadi.my/event/kelas-ict-12/
CATEGORIES:DEFAULT
END:VEVENT
BEGIN:VEVENT
DTSTART;TZID=UTC:20240926T100000
DTEND;TZID=UTC:20240926T120000
DTSTAMP:20260426T122235
CREATED:20240901T233903Z
LAST-MODIFIED:20240901T233903Z
UID:5957-1727344800-1727352000@bukitjenun.nadi.my
SUMMARY:Kelas Shopee Dan Canva
DESCRIPTION:
URL:https://bukitjenun.nadi.my/event/kelas-shopee-dan-canva-2/
CATEGORIES:DEFAULT
END:VEVENT
BEGIN:VEVENT
DTSTART;TZID=UTC:20240921T090000
DTEND;TZID=UTC:20240921T170000
DTSTAMP:20260426T122235
CREATED:20240901T233837Z
LAST-MODIFIED:20240901T233837Z
UID:5956-1726909200-1726938000@bukitjenun.nadi.my
SUMMARY:Roadshow Manager Day 2
DESCRIPTION:
URL:https://bukitjenun.nadi.my/event/roadshow-manager-day-2/
CATEGORIES:DEFAULT
END:VEVENT
BEGIN:VEVENT
DTSTART;TZID=UTC:20240920T080000
DTEND;TZID=UTC:20240920T170000
DTSTAMP:20260426T122235
CREATED:20240901T233816Z
LAST-MODIFIED:20240901T233816Z
UID:5955-1726819200-1726851600@bukitjenun.nadi.my
SUMMARY:Roadshow Manager Day 1
DESCRIPTION:
URL:https://bukitjenun.nadi.my/event/roadshow-manager-day-1/
CATEGORIES:DEFAULT
END:VEVENT
BEGIN:VEVENT
DTSTART;TZID=UTC:20240910T080000
DTEND;TZID=UTC:20240910T170000
DTSTAMP:20260426T122235
CREATED:20240901T233751Z
LAST-MODIFIED:20240901T233751Z
UID:5954-1725955200-1725987600@bukitjenun.nadi.my
SUMMARY:E-Learning Coloring Jalur Gemilang Dan Motor Halus
DESCRIPTION:
URL:https://bukitjenun.nadi.my/event/e-learning-coloring-jalur-gemilang-dan-motor-halus/
CATEGORIES:DEFAULT
END:VEVENT
END:VCALENDAR