BEGIN:VCALENDAR
VERSION:2.0
PRODID:-//Pekan Bukit Jenun - ECPv6.15.13.1//NONSGML v1.0//EN
CALSCALE:GREGORIAN
METHOD:PUBLISH
X-WR-CALNAME:Pekan Bukit Jenun
X-ORIGINAL-URL:https://bukitjenun.nadi.my
X-WR-CALDESC:Events for Pekan Bukit Jenun
REFRESH-INTERVAL;VALUE=DURATION:PT1H
X-Robots-Tag:noindex
X-PUBLISHED-TTL:PT1H
BEGIN:VTIMEZONE
TZID:UTC
BEGIN:STANDARD
TZOFFSETFROM:+0000
TZOFFSETTO:+0000
TZNAME:UTC
DTSTART:20230101T000000
END:STANDARD
END:VTIMEZONE
BEGIN:VEVENT
DTSTART;TZID=UTC:20240515T100000
DTEND;TZID=UTC:20240515T120000
DTSTAMP:20260425T082036
CREATED:20240507T012337Z
LAST-MODIFIED:20240507T012337Z
UID:5928-1715767200-1715774400@bukitjenun.nadi.my
SUMMARY:Program STEM/IOT Bersama Pelajar KEMAS
DESCRIPTION:
URL:https://bukitjenun.nadi.my/event/program-stem-iot-bersama-pelajar-kemas/
CATEGORIES:DEFAULT
END:VEVENT
BEGIN:VEVENT
DTSTART;TZID=UTC:20240508T100000
DTEND;TZID=UTC:20240508T120000
DTSTAMP:20260425T082036
CREATED:20240507T012237Z
LAST-MODIFIED:20240507T012237Z
UID:5927-1715162400-1715169600@bukitjenun.nadi.my
SUMMARY:Kelas Photopone
DESCRIPTION:
URL:https://bukitjenun.nadi.my/event/kelas-photopone/
CATEGORIES:DEFAULT
END:VEVENT
BEGIN:VEVENT
DTSTART;TZID=UTC:20240507T100000
DTEND;TZID=UTC:20240507T120000
DTSTAMP:20260425T082036
CREATED:20240507T012051Z
LAST-MODIFIED:20240507T012051Z
UID:5926-1715076000-1715083200@bukitjenun.nadi.my
SUMMARY:Kuiz Klik Dengan Bijak
DESCRIPTION:
URL:https://bukitjenun.nadi.my/event/kuiz-klik-dengan-bijak/
CATEGORIES:DEFAULT
END:VEVENT
BEGIN:VEVENT
DTSTART;TZID=UTC:20240506T100000
DTEND;TZID=UTC:20240506T120000
DTSTAMP:20260425T082036
CREATED:20240507T011925Z
LAST-MODIFIED:20240507T011925Z
UID:5925-1714989600-1714996800@bukitjenun.nadi.my
SUMMARY:Kelas Microsoft Office Excel
DESCRIPTION:
URL:https://bukitjenun.nadi.my/event/kelas-microsoft-office-excel/
CATEGORIES:DEFAULT
END:VEVENT
BEGIN:VEVENT
DTSTART;TZID=UTC:20240330T100000
DTEND;TZID=UTC:20240330T120000
DTSTAMP:20260425T082036
CREATED:20240229T181942Z
LAST-MODIFIED:20240229T181942Z
UID:5924-1711792800-1711800000@bukitjenun.nadi.my
SUMMARY:PROGRAM STEM/IOT
DESCRIPTION:
URL:https://bukitjenun.nadi.my/event/program-stem-iot/
CATEGORIES:DEFAULT
END:VEVENT
BEGIN:VEVENT
DTSTART;TZID=UTC:20240328T030000
DTEND;TZID=UTC:20240328T170000
DTSTAMP:20260425T082036
CREATED:20240229T181816Z
LAST-MODIFIED:20240229T181816Z
UID:5923-1711594800-1711645200@bukitjenun.nadi.my
SUMMARY:BENGKEL USAHAWAN DAN PENGUNAAN AI
DESCRIPTION:
URL:https://bukitjenun.nadi.my/event/bengkel-usahawan-dan-pengunaan-ai/
CATEGORIES:DEFAULT
END:VEVENT
BEGIN:VEVENT
DTSTART;TZID=UTC:20240323T100000
DTEND;TZID=UTC:20240323T120000
DTSTAMP:20260425T082036
CREATED:20240229T181725Z
LAST-MODIFIED:20240229T181725Z
UID:5922-1711188000-1711195200@bukitjenun.nadi.my
SUMMARY:KELAS CANVA DAN PENGENALAN AI
DESCRIPTION:
URL:https://bukitjenun.nadi.my/event/kelas-canva-dan-pengenalan-ai/
CATEGORIES:DEFAULT
END:VEVENT
BEGIN:VEVENT
DTSTART;TZID=UTC:20240315T153000
DTEND;TZID=UTC:20240315T173000
DTSTAMP:20260425T082036
CREATED:20240229T181647Z
LAST-MODIFIED:20240229T181647Z
UID:5921-1710516600-1710523800@bukitjenun.nadi.my
SUMMARY:BENGKEL ICT BERSAMA KOMUNITI PEKAN BUKIT JENUN
DESCRIPTION:
URL:https://bukitjenun.nadi.my/event/bengkel-ict-bersama-komuniti-pekan-bukit-jenun/
CATEGORIES:DEFAULT
END:VEVENT
BEGIN:VEVENT
DTSTART;TZID=UTC:20240308T100000
DTEND;TZID=UTC:20240308T120000
DTSTAMP:20260425T082036
CREATED:20240229T181414Z
LAST-MODIFIED:20240229T181414Z
UID:5920-1709892000-1709899200@bukitjenun.nadi.my
SUMMARY:BENGKEL SHOPEE AFFILIATE BERSAMA PUSAT KOMUNITI KEDA TANJUNG SETOL
DESCRIPTION:
URL:https://bukitjenun.nadi.my/event/bengkel-shopee-affiliate-bersama-pusat-komuniti-keda-tanjung-setol/
CATEGORIES:DEFAULT
END:VEVENT
BEGIN:VEVENT
DTSTART;TZID=UTC:20240306T100000
DTEND;TZID=UTC:20240306T120000
DTSTAMP:20260425T082036
CREATED:20240229T181255Z
LAST-MODIFIED:20240229T181255Z
UID:5919-1709719200-1709726400@bukitjenun.nadi.my
SUMMARY:BACAAN YAASIN DI PEDI PAYA MENGKUANG
DESCRIPTION:
URL:https://bukitjenun.nadi.my/event/bacaan-yaasin-di-pedi-paya-mengkuang/
CATEGORIES:DEFAULT
END:VEVENT
BEGIN:VEVENT
DTSTART;TZID=UTC:20240305T100000
DTEND;TZID=UTC:20240305T120000
DTSTAMP:20260425T082036
CREATED:20240229T181214Z
LAST-MODIFIED:20240229T181214Z
UID:5918-1709632800-1709640000@bukitjenun.nadi.my
SUMMARY:KDB SEMPENA HARI WANITA
DESCRIPTION:
URL:https://bukitjenun.nadi.my/event/kdb-sempena-hari-wanita/
CATEGORIES:DEFAULT
END:VEVENT
BEGIN:VEVENT
DTSTART;TZID=UTC:20240301T090000
DTEND;TZID=UTC:20240301T170000
DTSTAMP:20260425T082036
CREATED:20240229T181056Z
LAST-MODIFIED:20240229T181056Z
UID:5917-1709283600-1709312400@bukitjenun.nadi.my
SUMMARY:KAUNTER PADU
DESCRIPTION:
URL:https://bukitjenun.nadi.my/event/kaunter-padu/
CATEGORIES:DEFAULT
END:VEVENT
BEGIN:VEVENT
DTSTART;TZID=UTC:20240229T090000
DTEND;TZID=UTC:20240229T120000
DTSTAMP:20260425T082036
CREATED:20240131T194911Z
LAST-MODIFIED:20240131T194911Z
UID:5916-1709197200-1709208000@bukitjenun.nadi.my
SUMMARY:KELAS USAHAWAN
DESCRIPTION:
URL:https://bukitjenun.nadi.my/event/kelas-usahawan/
CATEGORIES:DEFAULT
END:VEVENT
BEGIN:VEVENT
DTSTART;TZID=UTC:20240222T100000
DTEND;TZID=UTC:20240222T120000
DTSTAMP:20260425T082036
CREATED:20240131T194838Z
LAST-MODIFIED:20240131T194838Z
UID:5915-1708596000-1708603200@bukitjenun.nadi.my
SUMMARY:Bengkel Shopee Affiliate
DESCRIPTION:
URL:https://bukitjenun.nadi.my/event/bengkel-shopee-affiliate/
CATEGORIES:DEFAULT
END:VEVENT
BEGIN:VEVENT
DTSTART;TZID=UTC:20240217T100000
DTEND;TZID=UTC:20240217T120000
DTSTAMP:20260425T082036
CREATED:20240131T192549Z
LAST-MODIFIED:20240131T192549Z
UID:5914-1708164000-1708171200@bukitjenun.nadi.my
SUMMARY:STEM SUMMER CAMP
DESCRIPTION:
URL:https://bukitjenun.nadi.my/event/stem-summer-camp/
CATEGORIES:DEFAULT
END:VEVENT
BEGIN:VEVENT
DTSTART;TZID=UTC:20240216T150000
DTEND;TZID=UTC:20240216T170000
DTSTAMP:20260425T082036
CREATED:20240131T192514Z
LAST-MODIFIED:20240131T192514Z
UID:5913-1708095600-1708102800@bukitjenun.nadi.my
SUMMARY:Bengkel ICT & STEM
DESCRIPTION:
URL:https://bukitjenun.nadi.my/event/bengkel-ict-stem/
CATEGORIES:DEFAULT
END:VEVENT
BEGIN:VEVENT
DTSTART;TZID=UTC:20240213T090000
DTEND;TZID=UTC:20240213T120000
DTSTAMP:20260425T082036
CREATED:20240131T192355Z
LAST-MODIFIED:20240131T192355Z
UID:5912-1707814800-1707825600@bukitjenun.nadi.my
SUMMARY:Kaunter CIMB Bank
DESCRIPTION:
URL:https://bukitjenun.nadi.my/event/kaunter-cimb-bank/
CATEGORIES:DEFAULT
END:VEVENT
BEGIN:VEVENT
DTSTART;TZID=UTC:20240207T090000
DTEND;TZID=UTC:20240207T110000
DTSTAMP:20260425T082036
CREATED:20240131T192326Z
LAST-MODIFIED:20240131T192326Z
UID:5911-1707296400-1707303600@bukitjenun.nadi.my
SUMMARY:Meeting Penolong Pengurus PEDI Kluster Pendang
DESCRIPTION:
URL:https://bukitjenun.nadi.my/event/meeting-penolong-pengurus-pedi-kluster-pendang/
CATEGORIES:DEFAULT
END:VEVENT
BEGIN:VEVENT
DTSTART;TZID=UTC:20240206T100000
DTEND;TZID=UTC:20240206T120000
DTSTAMP:20260425T082036
CREATED:20240131T192005Z
LAST-MODIFIED:20240131T192005Z
UID:5910-1707213600-1707220800@bukitjenun.nadi.my
SUMMARY:Program Advokasi Klik Dengan Bijak Bersama SK Paya Mengkuang
DESCRIPTION:
URL:https://bukitjenun.nadi.my/event/program-advokasi-klik-dengan-bijak-bersama-sk-paya-mengkuang/
CATEGORIES:DEFAULT
END:VEVENT
BEGIN:VEVENT
DTSTART;TZID=UTC:20240205T100000
DTEND;TZID=UTC:20240205T120000
DTSTAMP:20260425T082036
CREATED:20240131T191814Z
LAST-MODIFIED:20240131T191814Z
UID:5909-1707127200-1707134400@bukitjenun.nadi.my
SUMMARY:Majlis Bacaan Yasin PEDI Kluster Pendang
DESCRIPTION:
URL:https://bukitjenun.nadi.my/event/majlis-bacaan-yasin-pedi-kluster-pendang/
CATEGORIES:DEFAULT
END:VEVENT
BEGIN:VEVENT
DTSTART;TZID=UTC:20240119T090000
DTEND;TZID=UTC:20240119T120000
DTSTAMP:20260425T082036
CREATED:20240110T215844Z
LAST-MODIFIED:20240110T215844Z
UID:5908-1705654800-1705665600@bukitjenun.nadi.my
SUMMARY:PROGRAM  BERSAMA KOMUNITI PEDI PAYA MENGKUANG
DESCRIPTION:
URL:https://bukitjenun.nadi.my/event/program-bersama-komuniti-pedi-paya-mengkuang/
CATEGORIES:DEFAULT
END:VEVENT
BEGIN:VEVENT
DTSTART;TZID=UTC:20240118T140000
DTEND;TZID=UTC:20240118T160000
DTSTAMP:20260425T082036
CREATED:20240110T215816Z
LAST-MODIFIED:20240110T215816Z
UID:5907-1705586400-1705593600@bukitjenun.nadi.my
SUMMARY:BENGKEL TIKTOK & AFFILIATE BERSAMA PUSAT KOMUNTI DESA (PKD) SUNGAI  TIANG
DESCRIPTION:
URL:https://bukitjenun.nadi.my/event/bengkel-tiktok-affiliate-bersama-pusat-komunti-desa-pkd-sungai-tiang/
CATEGORIES:DEFAULT
END:VEVENT
BEGIN:VEVENT
DTSTART;TZID=UTC:20240118T100000
DTEND;TZID=UTC:20240118T120000
DTSTAMP:20260425T082036
CREATED:20240110T215741Z
LAST-MODIFIED:20240110T215741Z
UID:5906-1705572000-1705579200@bukitjenun.nadi.my
SUMMARY:BENGKEL ICT BERSAMA TABIKA PERPADUAN PEKAN BUKIT JENUN
DESCRIPTION:
URL:https://bukitjenun.nadi.my/event/bengkel-ict-bersama-tabika-perpaduan-pekan-bukit-jenun/
CATEGORIES:DEFAULT
END:VEVENT
BEGIN:VEVENT
DTSTART;TZID=UTC:20240109T090000
DTEND;TZID=UTC:20240109T120000
DTSTAMP:20260425T082036
CREATED:20240110T215703Z
LAST-MODIFIED:20240110T215703Z
UID:5905-1704790800-1704801600@bukitjenun.nadi.my
SUMMARY:MESYUARAT BERSAMA PENGURUS PEDI KLUSTER PENDANG
DESCRIPTION:
URL:https://bukitjenun.nadi.my/event/mesyuarat-bersama-pengurus-pedi-kluster-pendang/
CATEGORIES:DEFAULT
END:VEVENT
BEGIN:VEVENT
DTSTART;TZID=UTC:20240108T150000
DTEND;TZID=UTC:20240108T160000
DTSTAMP:20260425T082036
CREATED:20231231T190317Z
LAST-MODIFIED:20231231T190317Z
UID:5900-1704726000-1704729600@bukitjenun.nadi.my
SUMMARY:Kelas Microsoft Office
DESCRIPTION:
URL:https://bukitjenun.nadi.my/event/kelas-microsoft-office-2/
CATEGORIES:DEFAULT
END:VEVENT
BEGIN:VEVENT
DTSTART;TZID=UTC:20240108T140000
DTEND;TZID=UTC:20240108T170000
DTSTAMP:20260425T082036
CREATED:20240110T215624Z
LAST-MODIFIED:20240110T215624Z
UID:5904-1704722400-1704733200@bukitjenun.nadi.my
SUMMARY:LAWATAN SAMBIL BELAJAR (THINKERING STATION)
DESCRIPTION:
URL:https://bukitjenun.nadi.my/event/lawatan-sambil-belajar-thinkering-station/
CATEGORIES:DEFAULT
END:VEVENT
BEGIN:VEVENT
DTSTART;TZID=UTC:20240108T090000
DTEND;TZID=UTC:20240108T120000
DTSTAMP:20260425T082036
CREATED:20240110T215554Z
LAST-MODIFIED:20240110T215554Z
UID:5903-1704704400-1704715200@bukitjenun.nadi.my
SUMMARY:MESYUARAT BERSAMA TIMBALAN PENGARAH SKMM WILAYAH UTARA & PERISIAN MICROBIT
DESCRIPTION:
URL:https://bukitjenun.nadi.my/event/mesyuarat-bersama-timbalan-pengarah-skmm-wilayah-utara-perisian-microbit/
CATEGORIES:DEFAULT
END:VEVENT
BEGIN:VEVENT
DTSTART;TZID=UTC:20240107T090000
DTEND;TZID=UTC:20240107T120000
DTSTAMP:20260425T082036
CREATED:20240110T215512Z
LAST-MODIFIED:20240110T215512Z
UID:5902-1704618000-1704628800@bukitjenun.nadi.my
SUMMARY:KIDS SUMMER CAMP ACTIVITIES
DESCRIPTION:
URL:https://bukitjenun.nadi.my/event/kids-summer-camp-activities/
CATEGORIES:DEFAULT
END:VEVENT
BEGIN:VEVENT
DTSTART;TZID=UTC:20240106T100000
DTEND;TZID=UTC:20240106T110000
DTSTAMP:20260425T082036
CREATED:20231231T190255Z
LAST-MODIFIED:20231231T190255Z
UID:5899-1704535200-1704538800@bukitjenun.nadi.my
SUMMARY:Kelas ICT
DESCRIPTION:
URL:https://bukitjenun.nadi.my/event/kelas-ict-9/
CATEGORIES:DEFAULT
END:VEVENT
BEGIN:VEVENT
DTSTART;TZID=UTC:20240105T100000
DTEND;TZID=UTC:20240105T120000
DTSTAMP:20260425T082036
CREATED:20231231T190230Z
LAST-MODIFIED:20231231T190230Z
UID:5898-1704448800-1704456000@bukitjenun.nadi.my
SUMMARY:Kelas Aktiviti Multimedia
DESCRIPTION:
URL:https://bukitjenun.nadi.my/event/kelas-aktiviti-multimedia-4/
CATEGORIES:DEFAULT
END:VEVENT
END:VCALENDAR