BEGIN:VCALENDAR
VERSION:2.0
PRODID:-//Pekan Bukit Jenun - ECPv6.15.13.1//NONSGML v1.0//EN
CALSCALE:GREGORIAN
METHOD:PUBLISH
X-WR-CALNAME:Pekan Bukit Jenun
X-ORIGINAL-URL:https://bukitjenun.nadi.my
X-WR-CALDESC:Events for Pekan Bukit Jenun
REFRESH-INTERVAL;VALUE=DURATION:PT1H
X-Robots-Tag:noindex
X-PUBLISHED-TTL:PT1H
BEGIN:VTIMEZONE
TZID:UTC
BEGIN:STANDARD
TZOFFSETFROM:+0000
TZOFFSETTO:+0000
TZNAME:UTC
DTSTART:20230101T000000
END:STANDARD
END:VTIMEZONE
BEGIN:VEVENT
DTSTART;TZID=UTC:20240927T090000
DTEND;TZID=UTC:20240927T120000
DTSTAMP:20260423T161304
CREATED:20240901T233926Z
LAST-MODIFIED:20240901T233926Z
UID:5958-1727427600-1727438400@bukitjenun.nadi.my
SUMMARY:Kelas ICT
DESCRIPTION:
URL:https://bukitjenun.nadi.my/event/kelas-ict-12/
CATEGORIES:DEFAULT
END:VEVENT
BEGIN:VEVENT
DTSTART;TZID=UTC:20240926T100000
DTEND;TZID=UTC:20240926T120000
DTSTAMP:20260423T161304
CREATED:20240901T233903Z
LAST-MODIFIED:20240901T233903Z
UID:5957-1727344800-1727352000@bukitjenun.nadi.my
SUMMARY:Kelas Shopee Dan Canva
DESCRIPTION:
URL:https://bukitjenun.nadi.my/event/kelas-shopee-dan-canva-2/
CATEGORIES:DEFAULT
END:VEVENT
BEGIN:VEVENT
DTSTART;TZID=UTC:20240921T090000
DTEND;TZID=UTC:20240921T170000
DTSTAMP:20260423T161304
CREATED:20240901T233837Z
LAST-MODIFIED:20240901T233837Z
UID:5956-1726909200-1726938000@bukitjenun.nadi.my
SUMMARY:Roadshow Manager Day 2
DESCRIPTION:
URL:https://bukitjenun.nadi.my/event/roadshow-manager-day-2/
CATEGORIES:DEFAULT
END:VEVENT
BEGIN:VEVENT
DTSTART;TZID=UTC:20240920T080000
DTEND;TZID=UTC:20240920T170000
DTSTAMP:20260423T161304
CREATED:20240901T233816Z
LAST-MODIFIED:20240901T233816Z
UID:5955-1726819200-1726851600@bukitjenun.nadi.my
SUMMARY:Roadshow Manager Day 1
DESCRIPTION:
URL:https://bukitjenun.nadi.my/event/roadshow-manager-day-1/
CATEGORIES:DEFAULT
END:VEVENT
BEGIN:VEVENT
DTSTART;TZID=UTC:20240910T080000
DTEND;TZID=UTC:20240910T170000
DTSTAMP:20260423T161304
CREATED:20240901T233751Z
LAST-MODIFIED:20240901T233751Z
UID:5954-1725955200-1725987600@bukitjenun.nadi.my
SUMMARY:E-Learning Coloring Jalur Gemilang Dan Motor Halus
DESCRIPTION:
URL:https://bukitjenun.nadi.my/event/e-learning-coloring-jalur-gemilang-dan-motor-halus/
CATEGORIES:DEFAULT
END:VEVENT
BEGIN:VEVENT
DTSTART;TZID=UTC:20240908T100000
DTEND;TZID=UTC:20240908T120000
DTSTAMP:20260423T161304
CREATED:20240901T233707Z
LAST-MODIFIED:20240901T233707Z
UID:5953-1725789600-1725796800@bukitjenun.nadi.my
SUMMARY:Kelas Bimbingan Keushawanan Dan AI
DESCRIPTION:
URL:https://bukitjenun.nadi.my/event/kelas-bimbingan-keushawanan-dan-ai/
CATEGORIES:DEFAULT
END:VEVENT
BEGIN:VEVENT
DTSTART;TZID=UTC:20240905T100000
DTEND;TZID=UTC:20240905T110000
DTSTAMP:20260423T161304
CREATED:20240901T233620Z
LAST-MODIFIED:20240901T233620Z
UID:5952-1725530400-1725534000@bukitjenun.nadi.my
SUMMARY:Advokasi Siber Buli
DESCRIPTION:
URL:https://bukitjenun.nadi.my/event/advokasi-siber-buli/
CATEGORIES:DEFAULT
END:VEVENT
BEGIN:VEVENT
DTSTART;TZID=UTC:20240901T090000
DTEND;TZID=UTC:20240901T120000
DTSTAMP:20260423T161304
CREATED:20240901T233530Z
LAST-MODIFIED:20240901T233530Z
UID:5951-1725181200-1725192000@bukitjenun.nadi.my
SUMMARY:Program STEM/IOT
DESCRIPTION:
URL:https://bukitjenun.nadi.my/event/program-stem-iot-3/
CATEGORIES:DEFAULT
END:VEVENT
BEGIN:VEVENT
DTSTART;TZID=UTC:20240815T150000
DTEND;TZID=UTC:20240815T170000
DTSTAMP:20260423T161304
CREATED:20240731T015800Z
LAST-MODIFIED:20240731T015800Z
UID:5950-1723734000-1723741200@bukitjenun.nadi.my
SUMMARY:E-Learning Coloring Jalur Gemilang Dan Moto Halus
DESCRIPTION:
URL:https://bukitjenun.nadi.my/event/e-learning-coloring-jalur-gemilang-dan-moto-halus/
CATEGORIES:DEFAULT
END:VEVENT
BEGIN:VEVENT
DTSTART;TZID=UTC:20240808T100000
DTEND;TZID=UTC:20240808T120000
DTSTAMP:20260423T161304
CREATED:20240731T015700Z
LAST-MODIFIED:20240731T015700Z
UID:5949-1723111200-1723118400@bukitjenun.nadi.my
SUMMARY:Advokasi KDB Buli Siber
DESCRIPTION:
URL:https://bukitjenun.nadi.my/event/advokasi-kdb-buli-siber/
CATEGORIES:DEFAULT
END:VEVENT
BEGIN:VEVENT
DTSTART;TZID=UTC:20240803T100000
DTEND;TZID=UTC:20240803T130000
DTSTAMP:20260423T161304
CREATED:20240731T015637Z
LAST-MODIFIED:20240731T015637Z
UID:5948-1722679200-1722690000@bukitjenun.nadi.my
SUMMARY:Program  Kembara Merdeka Jalur Gemilang  Peringkat Negeri  Kedah
DESCRIPTION:
URL:https://bukitjenun.nadi.my/event/program-kembara-merdeka-jalur-gemilang-peringkat-negeri-kedah/
CATEGORIES:DEFAULT
END:VEVENT
BEGIN:VEVENT
DTSTART;TZID=UTC:20240801T080000
DTEND;TZID=UTC:20240801T130000
DTSTAMP:20260423T161304
CREATED:20240731T015548Z
LAST-MODIFIED:20240731T015548Z
UID:5947-1722499200-1722517200@bukitjenun.nadi.my
SUMMARY:Booth Hari Ladang Pejabat Pertanian
DESCRIPTION:
URL:https://bukitjenun.nadi.my/event/booth-hari-ladang-pejabat-pertanian/
CATEGORIES:DEFAULT
END:VEVENT
BEGIN:VEVENT
DTSTART;TZID=UTC:20240731T150000
DTEND;TZID=UTC:20240731T170000
DTSTAMP:20260423T161304
CREATED:20240703T174625Z
LAST-MODIFIED:20240703T174625Z
UID:5946-1722438000-1722445200@bukitjenun.nadi.my
SUMMARY:KELAS ICT
DESCRIPTION:
URL:https://bukitjenun.nadi.my/event/kelas-ict-11/
CATEGORIES:DEFAULT
END:VEVENT
BEGIN:VEVENT
DTSTART;TZID=UTC:20240726T090000
DTEND;TZID=UTC:20240726T120000
DTSTAMP:20260423T161304
CREATED:20240703T174601Z
LAST-MODIFIED:20240703T174601Z
UID:5945-1721984400-1721995200@bukitjenun.nadi.my
SUMMARY:KELAS E-LEARNING
DESCRIPTION:
URL:https://bukitjenun.nadi.my/event/kelas-e-learning-13/
CATEGORIES:DEFAULT
END:VEVENT
BEGIN:VEVENT
DTSTART;TZID=UTC:20240725T090000
DTEND;TZID=UTC:20240725T120000
DTSTAMP:20260423T161304
CREATED:20240703T174530Z
LAST-MODIFIED:20240703T174530Z
UID:5944-1721898000-1721908800@bukitjenun.nadi.my
SUMMARY:PROGRAM STEM / IOT
DESCRIPTION:
URL:https://bukitjenun.nadi.my/event/program-stem-iot-2/
CATEGORIES:DEFAULT
END:VEVENT
BEGIN:VEVENT
DTSTART;TZID=UTC:20240720T090000
DTEND;TZID=UTC:20240720T120000
DTSTAMP:20260423T161304
CREATED:20240703T174420Z
LAST-MODIFIED:20240703T174420Z
UID:5943-1721466000-1721476800@bukitjenun.nadi.my
SUMMARY:BENGKEL USAHAWAN DAN PENGENALAN AI
DESCRIPTION:
URL:https://bukitjenun.nadi.my/event/bengkel-usahawan-dan-pengenalan-ai/
CATEGORIES:DEFAULT
END:VEVENT
BEGIN:VEVENT
DTSTART;TZID=UTC:20240718T150000
DTEND;TZID=UTC:20240718T170000
DTSTAMP:20260423T161304
CREATED:20240703T174328Z
LAST-MODIFIED:20240703T174328Z
UID:5942-1721314800-1721322000@bukitjenun.nadi.my
SUMMARY:KELAS SHOPEE DAN CANVA
DESCRIPTION:
URL:https://bukitjenun.nadi.my/event/kelas-shopee-dan-canva/
CATEGORIES:DEFAULT
END:VEVENT
BEGIN:VEVENT
DTSTART;TZID=UTC:20240711T090000
DTEND;TZID=UTC:20240711T120000
DTSTAMP:20260423T161304
CREATED:20240703T174253Z
LAST-MODIFIED:20240703T174253Z
UID:5941-1720688400-1720699200@bukitjenun.nadi.my
SUMMARY:KELAS MULTIMEDIA CANVA
DESCRIPTION:
URL:https://bukitjenun.nadi.my/event/kelas-multimedia-canva-2/
CATEGORIES:DEFAULT
END:VEVENT
BEGIN:VEVENT
DTSTART;TZID=UTC:20240709T090000
DTEND;TZID=UTC:20240709T120000
DTSTAMP:20260423T161304
CREATED:20240703T174045Z
LAST-MODIFIED:20240703T174045Z
UID:5940-1720515600-1720526400@bukitjenun.nadi.my
SUMMARY:KAUNTER PERKHIDMATAN KWSP MOBILE TEAM
DESCRIPTION:
URL:https://bukitjenun.nadi.my/event/kaunter-perkhidmatan-kwsp-mobile-team/
CATEGORIES:DEFAULT
END:VEVENT
BEGIN:VEVENT
DTSTART;TZID=UTC:20240702T100000
DTEND;TZID=UTC:20240702T120000
DTSTAMP:20260423T161304
CREATED:20240703T173833Z
LAST-MODIFIED:20240703T173833Z
UID:5939-1719914400-1719921600@bukitjenun.nadi.my
SUMMARY:TAKLIMAT DAN KUIZ KLIK DENGAN BIJAK
DESCRIPTION:
URL:https://bukitjenun.nadi.my/event/taklimat-dan-kuiz-klik-dengan-bijak/
CATEGORIES:DEFAULT
END:VEVENT
BEGIN:VEVENT
DTSTART;TZID=UTC:20240627T150000
DTEND;TZID=UTC:20240627T170000
DTSTAMP:20260423T161304
CREATED:20240610T200651Z
LAST-MODIFIED:20240610T200651Z
UID:5938-1719500400-1719507600@bukitjenun.nadi.my
SUMMARY:Kelas ICT
DESCRIPTION:
URL:https://bukitjenun.nadi.my/event/kelas-ict-10/
CATEGORIES:DEFAULT
END:VEVENT
BEGIN:VEVENT
DTSTART;TZID=UTC:20240620T100000
DTEND;TZID=UTC:20240620T120000
DTSTAMP:20260423T161304
CREATED:20240610T200608Z
LAST-MODIFIED:20240610T200608Z
UID:5937-1718877600-1718884800@bukitjenun.nadi.my
SUMMARY:Taklimat KDB Bersama Pelajar SK Bukit Jenun
DESCRIPTION:
URL:https://bukitjenun.nadi.my/event/taklimat-kdb-bersama-pelajar-sk-bukit-jenun/
CATEGORIES:DEFAULT
END:VEVENT
BEGIN:VEVENT
DTSTART;TZID=UTC:20240614T100000
DTEND;TZID=UTC:20240614T130000
DTSTAMP:20260423T161304
CREATED:20240610T200512Z
LAST-MODIFIED:20240610T200512Z
UID:5936-1718359200-1718370000@bukitjenun.nadi.my
SUMMARY:Aktiviti STEM/IOT Bersama Komuniti
DESCRIPTION:
URL:https://bukitjenun.nadi.my/event/aktiviti-stem-iot-bersama-komuniti/
CATEGORIES:DEFAULT
END:VEVENT
BEGIN:VEVENT
DTSTART;TZID=UTC:20240611T150000
DTEND;TZID=UTC:20240611T170000
DTSTAMP:20260423T161304
CREATED:20240610T200306Z
LAST-MODIFIED:20240610T200306Z
UID:5935-1718118000-1718125200@bukitjenun.nadi.my
SUMMARY:Kelas Keusahawanan Shopee Shop
DESCRIPTION:
URL:https://bukitjenun.nadi.my/event/kelas-keusahawanan-shopee-shop/
CATEGORIES:DEFAULT
END:VEVENT
BEGIN:VEVENT
DTSTART;TZID=UTC:20240608T140000
DTEND;TZID=UTC:20240608T160000
DTSTAMP:20260423T161304
CREATED:20240610T200223Z
LAST-MODIFIED:20240610T200223Z
UID:5934-1717855200-1717862400@bukitjenun.nadi.my
SUMMARY:Taklimat & Kuiz Klik Dengan Bijak
DESCRIPTION:
URL:https://bukitjenun.nadi.my/event/taklimat-kuiz-klik-dengan-bijak/
CATEGORIES:DEFAULT
END:VEVENT
BEGIN:VEVENT
DTSTART;TZID=UTC:20240601T100000
DTEND;TZID=UTC:20240601T130000
DTSTAMP:20260423T161304
CREATED:20240610T200108Z
LAST-MODIFIED:20240610T200108Z
UID:5933-1717236000-1717246800@bukitjenun.nadi.my
SUMMARY:Program Cuti Sekolah
DESCRIPTION:
URL:https://bukitjenun.nadi.my/event/program-cuti-sekolah/
CATEGORIES:DEFAULT
END:VEVENT
BEGIN:VEVENT
DTSTART;TZID=UTC:20240528T150000
DTEND;TZID=UTC:20240528T170000
DTSTAMP:20260423T161304
CREATED:20240507T012955Z
LAST-MODIFIED:20240507T012955Z
UID:5932-1716908400-1716915600@bukitjenun.nadi.my
SUMMARY:Kelas Microsoft Office
DESCRIPTION:
URL:https://bukitjenun.nadi.my/event/kelas-microsoft-office-3/
CATEGORIES:DEFAULT
END:VEVENT
BEGIN:VEVENT
DTSTART;TZID=UTC:20240523T140000
DTEND;TZID=UTC:20240523T160000
DTSTAMP:20260423T161304
CREATED:20240507T012920Z
LAST-MODIFIED:20240507T012920Z
UID:5931-1716472800-1716480000@bukitjenun.nadi.my
SUMMARY:Kelas Softskill Resume
DESCRIPTION:
URL:https://bukitjenun.nadi.my/event/kelas-softskill-resume/
CATEGORIES:DEFAULT
END:VEVENT
BEGIN:VEVENT
DTSTART;TZID=UTC:20240521T150000
DTEND;TZID=UTC:20240521T170000
DTSTAMP:20260423T161304
CREATED:20240507T012848Z
LAST-MODIFIED:20240507T012848Z
UID:5930-1716303600-1716310800@bukitjenun.nadi.my
SUMMARY:Kelas Multimedia CANVA
DESCRIPTION:
URL:https://bukitjenun.nadi.my/event/kelas-multimedia-canva/
CATEGORIES:DEFAULT
END:VEVENT
BEGIN:VEVENT
DTSTART;TZID=UTC:20240516T143000
DTEND;TZID=UTC:20240516T173000
DTSTAMP:20260423T161304
CREATED:20240507T012441Z
LAST-MODIFIED:20240507T012441Z
UID:5929-1715869800-1715880600@bukitjenun.nadi.my
SUMMARY:Bengkel AI & Taklimat KDB
DESCRIPTION:
URL:https://bukitjenun.nadi.my/event/bengkel-ai-taklimat-kdb/
CATEGORIES:DEFAULT
END:VEVENT
END:VCALENDAR