BEGIN:VCALENDAR
VERSION:2.0
PRODID:-//Pekan Bukit Jenun - ECPv6.15.13.1//NONSGML v1.0//EN
CALSCALE:GREGORIAN
METHOD:PUBLISH
X-WR-CALNAME:Pekan Bukit Jenun
X-ORIGINAL-URL:https://bukitjenun.nadi.my
X-WR-CALDESC:Events for Pekan Bukit Jenun
REFRESH-INTERVAL;VALUE=DURATION:PT1H
X-Robots-Tag:noindex
X-PUBLISHED-TTL:PT1H
BEGIN:VTIMEZONE
TZID:UTC
BEGIN:STANDARD
TZOFFSETFROM:+0000
TZOFFSETTO:+0000
TZNAME:UTC
DTSTART:20220101T000000
END:STANDARD
END:VTIMEZONE
BEGIN:VEVENT
DTSTART;TZID=UTC:20240119T090000
DTEND;TZID=UTC:20240119T120000
DTSTAMP:20260426T120621
CREATED:20240110T215844Z
LAST-MODIFIED:20240110T215844Z
UID:5908-1705654800-1705665600@bukitjenun.nadi.my
SUMMARY:PROGRAM  BERSAMA KOMUNITI PEDI PAYA MENGKUANG
DESCRIPTION:
URL:https://bukitjenun.nadi.my/event/program-bersama-komuniti-pedi-paya-mengkuang/
CATEGORIES:DEFAULT
END:VEVENT
BEGIN:VEVENT
DTSTART;TZID=UTC:20240118T140000
DTEND;TZID=UTC:20240118T160000
DTSTAMP:20260426T120621
CREATED:20240110T215816Z
LAST-MODIFIED:20240110T215816Z
UID:5907-1705586400-1705593600@bukitjenun.nadi.my
SUMMARY:BENGKEL TIKTOK & AFFILIATE BERSAMA PUSAT KOMUNTI DESA (PKD) SUNGAI  TIANG
DESCRIPTION:
URL:https://bukitjenun.nadi.my/event/bengkel-tiktok-affiliate-bersama-pusat-komunti-desa-pkd-sungai-tiang/
CATEGORIES:DEFAULT
END:VEVENT
BEGIN:VEVENT
DTSTART;TZID=UTC:20240118T100000
DTEND;TZID=UTC:20240118T120000
DTSTAMP:20260426T120621
CREATED:20240110T215741Z
LAST-MODIFIED:20240110T215741Z
UID:5906-1705572000-1705579200@bukitjenun.nadi.my
SUMMARY:BENGKEL ICT BERSAMA TABIKA PERPADUAN PEKAN BUKIT JENUN
DESCRIPTION:
URL:https://bukitjenun.nadi.my/event/bengkel-ict-bersama-tabika-perpaduan-pekan-bukit-jenun/
CATEGORIES:DEFAULT
END:VEVENT
BEGIN:VEVENT
DTSTART;TZID=UTC:20240109T090000
DTEND;TZID=UTC:20240109T120000
DTSTAMP:20260426T120621
CREATED:20240110T215703Z
LAST-MODIFIED:20240110T215703Z
UID:5905-1704790800-1704801600@bukitjenun.nadi.my
SUMMARY:MESYUARAT BERSAMA PENGURUS PEDI KLUSTER PENDANG
DESCRIPTION:
URL:https://bukitjenun.nadi.my/event/mesyuarat-bersama-pengurus-pedi-kluster-pendang/
CATEGORIES:DEFAULT
END:VEVENT
BEGIN:VEVENT
DTSTART;TZID=UTC:20240108T150000
DTEND;TZID=UTC:20240108T160000
DTSTAMP:20260426T120621
CREATED:20231231T190317Z
LAST-MODIFIED:20231231T190317Z
UID:5900-1704726000-1704729600@bukitjenun.nadi.my
SUMMARY:Kelas Microsoft Office
DESCRIPTION:
URL:https://bukitjenun.nadi.my/event/kelas-microsoft-office-2/
CATEGORIES:DEFAULT
END:VEVENT
BEGIN:VEVENT
DTSTART;TZID=UTC:20240108T140000
DTEND;TZID=UTC:20240108T170000
DTSTAMP:20260426T120621
CREATED:20240110T215624Z
LAST-MODIFIED:20240110T215624Z
UID:5904-1704722400-1704733200@bukitjenun.nadi.my
SUMMARY:LAWATAN SAMBIL BELAJAR (THINKERING STATION)
DESCRIPTION:
URL:https://bukitjenun.nadi.my/event/lawatan-sambil-belajar-thinkering-station/
CATEGORIES:DEFAULT
END:VEVENT
BEGIN:VEVENT
DTSTART;TZID=UTC:20240108T090000
DTEND;TZID=UTC:20240108T120000
DTSTAMP:20260426T120621
CREATED:20240110T215554Z
LAST-MODIFIED:20240110T215554Z
UID:5903-1704704400-1704715200@bukitjenun.nadi.my
SUMMARY:MESYUARAT BERSAMA TIMBALAN PENGARAH SKMM WILAYAH UTARA & PERISIAN MICROBIT
DESCRIPTION:
URL:https://bukitjenun.nadi.my/event/mesyuarat-bersama-timbalan-pengarah-skmm-wilayah-utara-perisian-microbit/
CATEGORIES:DEFAULT
END:VEVENT
BEGIN:VEVENT
DTSTART;TZID=UTC:20240107T090000
DTEND;TZID=UTC:20240107T120000
DTSTAMP:20260426T120621
CREATED:20240110T215512Z
LAST-MODIFIED:20240110T215512Z
UID:5902-1704618000-1704628800@bukitjenun.nadi.my
SUMMARY:KIDS SUMMER CAMP ACTIVITIES
DESCRIPTION:
URL:https://bukitjenun.nadi.my/event/kids-summer-camp-activities/
CATEGORIES:DEFAULT
END:VEVENT
BEGIN:VEVENT
DTSTART;TZID=UTC:20240106T100000
DTEND;TZID=UTC:20240106T110000
DTSTAMP:20260426T120621
CREATED:20231231T190255Z
LAST-MODIFIED:20231231T190255Z
UID:5899-1704535200-1704538800@bukitjenun.nadi.my
SUMMARY:Kelas ICT
DESCRIPTION:
URL:https://bukitjenun.nadi.my/event/kelas-ict-9/
CATEGORIES:DEFAULT
END:VEVENT
BEGIN:VEVENT
DTSTART;TZID=UTC:20240105T100000
DTEND;TZID=UTC:20240105T120000
DTSTAMP:20260426T120621
CREATED:20231231T190230Z
LAST-MODIFIED:20231231T190230Z
UID:5898-1704448800-1704456000@bukitjenun.nadi.my
SUMMARY:Kelas Aktiviti Multimedia
DESCRIPTION:
URL:https://bukitjenun.nadi.my/event/kelas-aktiviti-multimedia-4/
CATEGORIES:DEFAULT
END:VEVENT
BEGIN:VEVENT
DTSTART;TZID=UTC:20240104T090000
DTEND;TZID=UTC:20240104T120000
DTSTAMP:20260426T120621
CREATED:20240110T215433Z
LAST-MODIFIED:20240110T215433Z
UID:5901-1704358800-1704369600@bukitjenun.nadi.my
SUMMARY:TAKLIMAT SISTEM PADU DAN PENYERAHAN BUKU LOG PADU UNTUK PEDI KLUSTER PENDANG
DESCRIPTION:
URL:https://bukitjenun.nadi.my/event/taklimat-sistem-padu-dan-penyerahan-buku-log-padu-untuk-pedi-kluster-pendang/
CATEGORIES:DEFAULT
END:VEVENT
BEGIN:VEVENT
DTSTART;TZID=UTC:20240103T150000
DTEND;TZID=UTC:20240103T160000
DTSTAMP:20260426T120621
CREATED:20231231T190204Z
LAST-MODIFIED:20231231T190204Z
UID:5897-1704294000-1704297600@bukitjenun.nadi.my
SUMMARY:Kelas E-Learning
DESCRIPTION:
URL:https://bukitjenun.nadi.my/event/kelas-e-learning-12/
CATEGORIES:DEFAULT
END:VEVENT
BEGIN:VEVENT
DTSTART;TZID=UTC:20240101T100000
DTEND;TZID=UTC:20240101T110000
DTSTAMP:20260426T120621
CREATED:20231231T190134Z
LAST-MODIFIED:20231231T190134Z
UID:5896-1704103200-1704106800@bukitjenun.nadi.my
SUMMARY:Kelas Shopee
DESCRIPTION:
URL:https://bukitjenun.nadi.my/event/kelas-shopee-4/
CATEGORIES:DEFAULT
END:VEVENT
BEGIN:VEVENT
DTSTART;TZID=UTC:20231229T150000
DTEND;TZID=UTC:20231229T170000
DTSTAMP:20260426T120621
CREATED:20231130T190608Z
LAST-MODIFIED:20231130T190608Z
UID:5895-1703862000-1703869200@bukitjenun.nadi.my
SUMMARY:Kelas E-Learning
DESCRIPTION:
URL:https://bukitjenun.nadi.my/event/kelas-e-learning-11/
CATEGORIES:DEFAULT
END:VEVENT
BEGIN:VEVENT
DTSTART;TZID=UTC:20231228T150000
DTEND;TZID=UTC:20231228T170000
DTSTAMP:20260426T120621
CREATED:20231130T190528Z
LAST-MODIFIED:20231130T190528Z
UID:5894-1703775600-1703782800@bukitjenun.nadi.my
SUMMARY:Kelas ICT
DESCRIPTION:
URL:https://bukitjenun.nadi.my/event/kelas-ict-8/
CATEGORIES:DEFAULT
END:VEVENT
BEGIN:VEVENT
DTSTART;TZID=UTC:20231227T100000
DTEND;TZID=UTC:20231227T120000
DTSTAMP:20260426T120621
CREATED:20231130T190512Z
LAST-MODIFIED:20231130T190512Z
UID:5893-1703671200-1703678400@bukitjenun.nadi.my
SUMMARY:Kelas Tiktok
DESCRIPTION:
URL:https://bukitjenun.nadi.my/event/kelas-tiktok-2/
CATEGORIES:DEFAULT
END:VEVENT
BEGIN:VEVENT
DTSTART;TZID=UTC:20231224T150000
DTEND;TZID=UTC:20231224T170000
DTSTAMP:20260426T120621
CREATED:20231130T190445Z
LAST-MODIFIED:20231130T190445Z
UID:5892-1703430000-1703437200@bukitjenun.nadi.my
SUMMARY:Kelas Canva
DESCRIPTION:
URL:https://bukitjenun.nadi.my/event/kelas-canva-4/
CATEGORIES:DEFAULT
END:VEVENT
BEGIN:VEVENT
DTSTART;TZID=UTC:20231223T150000
DTEND;TZID=UTC:20231223T170000
DTSTAMP:20260426T120621
CREATED:20231130T190426Z
LAST-MODIFIED:20231130T190426Z
UID:5891-1703343600-1703350800@bukitjenun.nadi.my
SUMMARY:Kelas Aktiviti Multimedia
DESCRIPTION:
URL:https://bukitjenun.nadi.my/event/kelas-aktiviti-multimedia-3/
CATEGORIES:DEFAULT
END:VEVENT
BEGIN:VEVENT
DTSTART;TZID=UTC:20231222T150000
DTEND;TZID=UTC:20231222T170000
DTSTAMP:20260426T120621
CREATED:20231130T190410Z
LAST-MODIFIED:20231130T190410Z
UID:5890-1703257200-1703264400@bukitjenun.nadi.my
SUMMARY:Kelas E-Learning
DESCRIPTION:
URL:https://bukitjenun.nadi.my/event/kelas-e-learning-10/
CATEGORIES:DEFAULT
END:VEVENT
BEGIN:VEVENT
DTSTART;TZID=UTC:20231221T150000
DTEND;TZID=UTC:20231221T170000
DTSTAMP:20260426T120621
CREATED:20231130T190353Z
LAST-MODIFIED:20231130T190353Z
UID:5889-1703170800-1703178000@bukitjenun.nadi.my
SUMMARY:Kelas ICT
DESCRIPTION:
URL:https://bukitjenun.nadi.my/event/kelas-ict-7/
CATEGORIES:DEFAULT
END:VEVENT
BEGIN:VEVENT
DTSTART;TZID=UTC:20231218T100000
DTEND;TZID=UTC:20231218T110000
DTSTAMP:20260426T120621
CREATED:20231130T190327Z
LAST-MODIFIED:20231130T190327Z
UID:5888-1702893600-1702897200@bukitjenun.nadi.my
SUMMARY:KDB- Klik Dengan Bijak
DESCRIPTION:
URL:https://bukitjenun.nadi.my/event/kdb-klik-dengan-bijak-6/
CATEGORIES:DEFAULT
END:VEVENT
BEGIN:VEVENT
DTSTART;TZID=UTC:20231215T150000
DTEND;TZID=UTC:20231215T170000
DTSTAMP:20260426T120621
CREATED:20231130T190303Z
LAST-MODIFIED:20231130T190303Z
UID:5887-1702652400-1702659600@bukitjenun.nadi.my
SUMMARY:Kelas Aktiviti Multimedia
DESCRIPTION:
URL:https://bukitjenun.nadi.my/event/kelas-aktiviti-multimedia-2/
CATEGORIES:DEFAULT
END:VEVENT
BEGIN:VEVENT
DTSTART;TZID=UTC:20231213T150000
DTEND;TZID=UTC:20231213T170000
DTSTAMP:20260426T120621
CREATED:20231130T190244Z
LAST-MODIFIED:20231130T190244Z
UID:5886-1702479600-1702486800@bukitjenun.nadi.my
SUMMARY:KDB- Klik Dengan Bijak
DESCRIPTION:
URL:https://bukitjenun.nadi.my/event/kdb-klik-dengan-bijak-5/
CATEGORIES:DEFAULT
END:VEVENT
BEGIN:VEVENT
DTSTART;TZID=UTC:20231211T090000
DTEND;TZID=UTC:20231211T130000
DTSTAMP:20260426T120621
CREATED:20231130T190224Z
LAST-MODIFIED:20231130T190224Z
UID:5885-1702285200-1702299600@bukitjenun.nadi.my
SUMMARY:KWSP
DESCRIPTION:
URL:https://bukitjenun.nadi.my/event/kwsp/
CATEGORIES:DEFAULT
END:VEVENT
BEGIN:VEVENT
DTSTART;TZID=UTC:20231209T150000
DTEND;TZID=UTC:20231209T170000
DTSTAMP:20260426T120621
CREATED:20231130T190201Z
LAST-MODIFIED:20231130T190201Z
UID:5884-1702134000-1702141200@bukitjenun.nadi.my
SUMMARY:Kelas Aktiviti Stem IOT
DESCRIPTION:
URL:https://bukitjenun.nadi.my/event/kelas-aktiviti-stem-iot-8/
CATEGORIES:DEFAULT
END:VEVENT
BEGIN:VEVENT
DTSTART;TZID=UTC:20231208T100000
DTEND;TZID=UTC:20231208T120000
DTSTAMP:20260426T120621
CREATED:20231130T190139Z
LAST-MODIFIED:20231130T190139Z
UID:5883-1702029600-1702036800@bukitjenun.nadi.my
SUMMARY:Kelas ICT
DESCRIPTION:
URL:https://bukitjenun.nadi.my/event/kelas-ict-6/
CATEGORIES:DEFAULT
END:VEVENT
BEGIN:VEVENT
DTSTART;TZID=UTC:20231205T100000
DTEND;TZID=UTC:20231205T120000
DTSTAMP:20260426T120621
CREATED:20231130T190118Z
LAST-MODIFIED:20231130T190118Z
UID:5882-1701770400-1701777600@bukitjenun.nadi.my
SUMMARY:Kelas Shopee
DESCRIPTION:
URL:https://bukitjenun.nadi.my/event/kelas-shopee-3/
CATEGORIES:DEFAULT
END:VEVENT
BEGIN:VEVENT
DTSTART;TZID=UTC:20231202T150000
DTEND;TZID=UTC:20231202T170000
DTSTAMP:20260426T120621
CREATED:20231130T190101Z
LAST-MODIFIED:20231130T190101Z
UID:5881-1701529200-1701536400@bukitjenun.nadi.my
SUMMARY:Kelas Aktiviti Stem IOT
DESCRIPTION:
URL:https://bukitjenun.nadi.my/event/kelas-aktiviti-stem-iot-7/
CATEGORIES:DEFAULT
END:VEVENT
BEGIN:VEVENT
DTSTART;TZID=UTC:20231201T150000
DTEND;TZID=UTC:20231201T170000
DTSTAMP:20260426T120621
CREATED:20231130T190040Z
LAST-MODIFIED:20231130T190040Z
UID:5880-1701442800-1701450000@bukitjenun.nadi.my
SUMMARY:Kelas E-Learning
DESCRIPTION:
URL:https://bukitjenun.nadi.my/event/kelas-e-learning-9/
CATEGORIES:DEFAULT
END:VEVENT
BEGIN:VEVENT
DTSTART;TZID=UTC:20231128T150000
DTEND;TZID=UTC:20231128T170000
DTSTAMP:20260426T120621
CREATED:20231103T012055Z
LAST-MODIFIED:20231103T012055Z
UID:5878-1701183600-1701190800@bukitjenun.nadi.my
SUMMARY:Kelas Tiktok
DESCRIPTION:
URL:https://bukitjenun.nadi.my/event/kelas-tiktok/
CATEGORIES:DEFAULT
END:VEVENT
END:VCALENDAR