BEGIN:VCALENDAR
VERSION:2.0
PRODID:-//Pekan Bukit Jenun - ECPv6.15.13.1//NONSGML v1.0//EN
CALSCALE:GREGORIAN
METHOD:PUBLISH
X-WR-CALNAME:Pekan Bukit Jenun
X-ORIGINAL-URL:https://bukitjenun.nadi.my
X-WR-CALDESC:Events for Pekan Bukit Jenun
REFRESH-INTERVAL;VALUE=DURATION:PT1H
X-Robots-Tag:noindex
X-PUBLISHED-TTL:PT1H
BEGIN:VTIMEZONE
TZID:Asia/Kuala_Lumpur
BEGIN:STANDARD
TZOFFSETFROM:+0800
TZOFFSETTO:+0800
TZNAME:+08
DTSTART:20240101T000000
END:STANDARD
END:VTIMEZONE
BEGIN:VEVENT
DTSTART;TZID=Asia/Kuala_Lumpur:20250722T140000
DTEND;TZID=Asia/Kuala_Lumpur:20250722T150000
DTSTAMP:20260422T071900
CREATED:20250711T094104Z
LAST-MODIFIED:20250711T094104Z
UID:6818-1753192800-1753196400@bukitjenun.nadi.my
SUMMARY:Podcast PRENUER
DESCRIPTION:
URL:https://bukitjenun.nadi.my/event/podcast-prenuer/
CATEGORIES:DEFAULT
END:VEVENT
END:VCALENDAR