BEGIN:VCALENDAR
VERSION:2.0
PRODID:-//Pekan Bukit Jenun - ECPv6.15.13.1//NONSGML v1.0//EN
CALSCALE:GREGORIAN
METHOD:PUBLISH
X-WR-CALNAME:Pekan Bukit Jenun
X-ORIGINAL-URL:https://bukitjenun.nadi.my
X-WR-CALDESC:Events for Pekan Bukit Jenun
REFRESH-INTERVAL;VALUE=DURATION:PT1H
X-Robots-Tag:noindex
X-PUBLISHED-TTL:PT1H
BEGIN:VTIMEZONE
TZID:Asia/Kuala_Lumpur
BEGIN:STANDARD
TZOFFSETFROM:+0800
TZOFFSETTO:+0800
TZNAME:+08
DTSTART:20250101T000000
END:STANDARD
END:VTIMEZONE
BEGIN:VEVENT
DTSTART;TZID=Asia/Kuala_Lumpur:20260129T140000
DTEND;TZID=Asia/Kuala_Lumpur:20260129T170000
DTSTAMP:20260420T210854
CREATED:20260115T025103Z
LAST-MODIFIED:20260115T025103Z
UID:7354-1769695200-1769706000@bukitjenun.nadi.my
SUMMARY:CYBERSECURITY-WEBINAR CARA MENANGANI ANCAMAN  SERANGAN SIBER
DESCRIPTION:CARA MENANGANI ANCAMAN SERANGAN SIBER
URL:https://bukitjenun.nadi.my/event/cybersecurity-webinar-cara-menangani-ancaman-serangan-siber/
LOCATION:Kedah
END:VEVENT
END:VCALENDAR