BEGIN:VCALENDAR
VERSION:2.0
PRODID:-//Pekan Bukit Jenun - ECPv6.15.13.1//NONSGML v1.0//EN
CALSCALE:GREGORIAN
METHOD:PUBLISH
X-WR-CALNAME:Pekan Bukit Jenun
X-ORIGINAL-URL:https://bukitjenun.nadi.my
X-WR-CALDESC:Events for Pekan Bukit Jenun
REFRESH-INTERVAL;VALUE=DURATION:PT1H
X-Robots-Tag:noindex
X-PUBLISHED-TTL:PT1H
BEGIN:VTIMEZONE
TZID:Asia/Kuala_Lumpur
BEGIN:STANDARD
TZOFFSETFROM:+0800
TZOFFSETTO:+0800
TZNAME:+08
DTSTART:20240101T000000
END:STANDARD
END:VTIMEZONE
BEGIN:VEVENT
DTSTART;TZID=Asia/Kuala_Lumpur:20250918T100000
DTEND;TZID=Asia/Kuala_Lumpur:20250918T113000
DTSTAMP:20260421T161806
CREATED:20250911T032237Z
LAST-MODIFIED:20250911T032237Z
UID:6988-1758189600-1758195000@bukitjenun.nadi.my
SUMMARY:Program Khas dalam LMS Cybersecurity
DESCRIPTION:
URL:https://bukitjenun.nadi.my/event/program-khas-dalam-lms-cybersecurity/
LOCATION:Kedah
END:VEVENT
BEGIN:VEVENT
DTSTART;TZID=Asia/Kuala_Lumpur:20250918T150000
DTEND;TZID=Asia/Kuala_Lumpur:20250918T163000
DTSTAMP:20260421T161806
CREATED:20250911T032309Z
LAST-MODIFIED:20250911T032309Z
UID:6990-1758207600-1758213000@bukitjenun.nadi.my
SUMMARY:Webinar Sim Swap: Ancaman Siber Kepada Usahawan
DESCRIPTION:
URL:https://bukitjenun.nadi.my/event/webinar-sim-swap-ancaman-siber-kepada-usahawan/
LOCATION:Kedah
END:VEVENT
END:VCALENDAR