BEGIN:VCALENDAR
VERSION:2.0
PRODID:-//Pekan Bukit Jenun - ECPv6.15.13.1//NONSGML v1.0//EN
CALSCALE:GREGORIAN
METHOD:PUBLISH
X-WR-CALNAME:Pekan Bukit Jenun
X-ORIGINAL-URL:https://bukitjenun.nadi.my
X-WR-CALDESC:Events for Pekan Bukit Jenun
REFRESH-INTERVAL;VALUE=DURATION:PT1H
X-Robots-Tag:noindex
X-PUBLISHED-TTL:PT1H
BEGIN:VTIMEZONE
TZID:Asia/Kuala_Lumpur
BEGIN:STANDARD
TZOFFSETFROM:+0800
TZOFFSETTO:+0800
TZNAME:+08
DTSTART:20240101T000000
END:STANDARD
END:VTIMEZONE
BEGIN:VEVENT
DTSTART;TZID=Asia/Kuala_Lumpur:20250618T140000
DTEND;TZID=Asia/Kuala_Lumpur:20250618T150000
DTSTAMP:20260426T073208
CREATED:20250618T064540Z
LAST-MODIFIED:20250618T064540Z
UID:6724-1750255200-1750258800@bukitjenun.nadi.my
SUMMARY:Ekelas Usahawan -Strategi Mengurus dan Mengukur Keberhasilan
DESCRIPTION:
URL:https://bukitjenun.nadi.my/event/ekelas-usahawan-strategi-mengurus-dan-mengukur-keberhasilan/
LOCATION:Kedah
END:VEVENT
END:VCALENDAR